BEGIN:VCALENDAR
VERSION:2.0
PRODID:-//ALIA West - ECPv6.15.20//NONSGML v1.0//EN
CALSCALE:GREGORIAN
METHOD:PUBLISH
X-ORIGINAL-URL:https://aliawest.alia.org.au
X-WR-CALDESC:Events for ALIA West
REFRESH-INTERVAL;VALUE=DURATION:PT1H
X-Robots-Tag:noindex
X-PUBLISHED-TTL:PT1H
BEGIN:VTIMEZONE
TZID:Australia/Perth
BEGIN:STANDARD
TZOFFSETFROM:+0800
TZOFFSETTO:+0800
TZNAME:AWST
DTSTART:20240101T000000
END:STANDARD
END:VTIMEZONE
BEGIN:VEVENT
DTSTART;TZID=Australia/Perth:20251113T180000
DTEND;TZID=Australia/Perth:20251113T213000
DTSTAMP:20260423T070050
CREATED:20250828T070424Z
LAST-MODIFIED:20250828T070424Z
UID:1187-1763056800-1763069400@aliawest.alia.org.au
SUMMARY:Quiz Night
DESCRIPTION:Save the date\nOur annual ALIAWest Quiz night has a date. Get your teams ready for an amazing night out with friends\, lots of laughs and amazing prizes. Save the 13th of November to your calendar and come back soon for more details.
URL:https://aliawest.alia.org.au/event/quiz-night/
LOCATION:State Library of Western Australia\, 25 Francis Street\, Perth\, Western Australia\, 6000\, Australia
ATTACH;FMTTYPE=image/jpeg:https://aliawest.alia.org.au/wp-content/uploads/2025/08/Quiz-Night-2025.jpg
ORGANIZER;CN="ALIAWest":MAILTO:aliawest@alia.org.au
END:VEVENT
END:VCALENDAR