BEGIN:VCALENDAR
VERSION:2.0
PRODID:-//ALIA West - ECPv6.15.20//NONSGML v1.0//EN
CALSCALE:GREGORIAN
METHOD:PUBLISH
X-ORIGINAL-URL:https://aliawest.alia.org.au
X-WR-CALDESC:Events for ALIA West
REFRESH-INTERVAL;VALUE=DURATION:PT1H
X-Robots-Tag:noindex
X-PUBLISHED-TTL:PT1H
BEGIN:VTIMEZONE
TZID:Australia/Perth
BEGIN:STANDARD
TZOFFSETFROM:+0800
TZOFFSETTO:+0800
TZNAME:AWST
DTSTART:20250101T000000
END:STANDARD
END:VTIMEZONE
BEGIN:VEVENT
DTSTART;TZID=Australia/Perth:20261104T174500
DTEND;TZID=Australia/Perth:20261104T190000
DTSTAMP:20260423T070927
CREATED:20251203T121954Z
LAST-MODIFIED:20251203T121954Z
UID:1434-1793814300-1793818800@aliawest.alia.org.au
SUMMARY:Committee Meeting
DESCRIPTION:Committee meetings are held monthly on the first Wednesday of each month; February to November. \nJoin online on Zoom or in person usually at the State Library of Western Australia.
URL:https://aliawest.alia.org.au/event/committee-meeting-9/
LOCATION:State Library of Western Australia\, 25 Francis Street\, Perth\, Western Australia\, 6000\, Australia
ATTACH;FMTTYPE=image/jpeg:https://aliawest.alia.org.au/wp-content/uploads/2025/12/Committee-Meetings-2026-1.jpg
END:VEVENT
BEGIN:VEVENT
DTSTART;TZID=Australia/Perth:20261112T180000
DTEND;TZID=Australia/Perth:20261112T213000
DTSTAMP:20260423T070927
CREATED:20251203T112526Z
LAST-MODIFIED:20260321T105911Z
UID:1401-1794506400-1794519000@aliawest.alia.org.au
SUMMARY:ALIA West Annual Quiz Night
DESCRIPTION:🌟 Mark your calendars! 🌟 \nJoin us for a night of fun and trivia at the #ALIAWest Quiz Night on the 12th November 2026. \nTest your knowledge\, win prizes\, and support the F A Sharr Award. \nTeams of 6 \nDon’t miss out! #QuizNight #TriviaFun #Savethedate
URL:https://aliawest.alia.org.au/event/alia-west-annual-quiz-night/
LOCATION:State Library of Western Australia\, 25 Francis Street\, Perth\, Western Australia\, 6000\, Australia
ATTACH;FMTTYPE=image/jpeg:https://aliawest.alia.org.au/wp-content/uploads/2025/12/Quiz-Night-2026-1080x1350-1.jpg
END:VEVENT
END:VCALENDAR