BEGIN:VCALENDAR
VERSION:2.0
PRODID:-//ALIA West - ECPv6.15.20//NONSGML v1.0//EN
CALSCALE:GREGORIAN
METHOD:PUBLISH
X-WR-CALNAME:ALIA West
X-ORIGINAL-URL:https://aliawest.alia.org.au
X-WR-CALDESC:Events for ALIA West
REFRESH-INTERVAL;VALUE=DURATION:PT1H
X-Robots-Tag:noindex
X-PUBLISHED-TTL:PT1H
BEGIN:VTIMEZONE
TZID:Australia/Perth
BEGIN:STANDARD
TZOFFSETFROM:+0800
TZOFFSETTO:+0800
TZNAME:AWST
DTSTART:20220101T000000
END:STANDARD
END:VTIMEZONE
BEGIN:VEVENT
DTSTART;VALUE=DATE:20260206
DTEND;VALUE=DATE:20260207
DTSTAMP:20260423T064211
CREATED:20251203T111622Z
LAST-MODIFIED:20260112T062508Z
UID:1391-1770336000-1770422399@aliawest.alia.org.au
SUMMARY:ALIA West Library Carpentry Workshop Day
DESCRIPTION:Registrations now open!  https://www.alia.org.au/EventRegistration?EventKey=WEST0226  \n🔧📚 Join Us for a Library Carpentry Workshop! 📚🔧 \nAre you ready to boost your data and digital skills in a friendly\, hands-on environment?We’re excited to host a Library Carpentry Workshop designed specifically for people working in libraries\, archives\, museums\, and the wider GLAMR community. \nRegistrations open until 5th February 2026 @9am (ASWT) \n📅 Date: 6 February 2026📍 Location: TL Robertson Library\, Curtin University🛠️ Skill Level: No prior coding experience needed! \nWhy Attend?Library Carpentry focuses on the real-world needs of information professionals. You’ll leave with practical\, reusable skills that help streamline workflows\, support research\, and enhance digital literacy in your organisation. \n✨ All skill levels welcome — bring your curiosity! \nStay tuned for registration details and the workshop schedule. \n#LibraryCarpentry #GLAMR #DigitalSkills #LibraryTraining #ProfessionalDevelopment #OpenRefine #TidyData \n\n\n\n\n\n\n\n\n\n\n\n\n\n\n\n\n\n\n\n\n\n\n\n\n \n\n\n\n\n\n\n\n \n\n\n\n\n\n\n 
URL:https://aliawest.alia.org.au/event/alia-west-library-carpentry-workshop-day/
LOCATION:TL Robertson Library\, Curtin University\, Kent Street\, Bentley\, Western Australia\, 6102\, Australia
ATTACH;FMTTYPE=image/jpeg:https://aliawest.alia.org.au/wp-content/uploads/2025/12/Library-Carpentry-2026-Save-the-Date-1.jpg
ORGANIZER;CN="ALIAWest":MAILTO:aliawest@alia.org.au
END:VEVENT
BEGIN:VEVENT
DTSTART;TZID=Australia/Perth:20260204T174500
DTEND;TZID=Australia/Perth:20260204T190000
DTSTAMP:20260423T064211
CREATED:20251203T115737Z
LAST-MODIFIED:20251203T115737Z
UID:1410-1770227100-1770231600@aliawest.alia.org.au
SUMMARY:Committee Meeting
DESCRIPTION:Committee meetings are held monthly on the first Wednesday of each month; February to November. \nJoin online on Zoom or in person usually at the State Library of Western Australia.
URL:https://aliawest.alia.org.au/event/committee-meeting/
LOCATION:State Library of Western Australia\, 25 Francis Street\, Perth\, Western Australia\, 6000\, Australia
ATTACH;FMTTYPE=image/jpeg:https://aliawest.alia.org.au/wp-content/uploads/2025/12/Committee-Meetings-2026-1.jpg
END:VEVENT
BEGIN:VEVENT
DTSTART;TZID=Australia/Perth:20260117T180000
DTEND;TZID=Australia/Perth:20260117T200000
DTSTAMP:20260423T064211
CREATED:20251203T114609Z
LAST-MODIFIED:20251203T120239Z
UID:1404-1768672800-1768680000@aliawest.alia.org.au
SUMMARY:Special Committee Meeting
DESCRIPTION:In Person at the Royal on the Waterfront.\nBrainstorming session for 2026 Conference
URL:https://aliawest.alia.org.au/event/aliawest-committee-meeting/
LOCATION:60 Royal Street\, East Perth WA 6004\, 60 Royal Street\, East Perth\, WA\, 6004\, Australia
ATTACH;FMTTYPE=image/jpeg:https://aliawest.alia.org.au/wp-content/uploads/2025/12/Committee-Meetings-2026-1.jpg
END:VEVENT
BEGIN:VEVENT
DTSTART;TZID=Australia/Perth:20251204T180000
DTEND;TZID=Australia/Perth:20251204T200000
DTSTAMP:20260423T064211
CREATED:20251106T091729Z
LAST-MODIFIED:20251106T091729Z
UID:1334-1764871200-1764878400@aliawest.alia.org.au
SUMMARY:Bunnings Cannington Engagement Evening - 4th December 2026
DESCRIPTION:ALIAWest will again be supporting Bunnings for their Community Engagement Evening for Christmas \nCome along and say Hi!  We volunteer at different stalls\, so look out for the ALIA banner. \nBunnings proudly sponsors the ALIAWest F A Sharr Award https://aliawest.alia.org.au/f-a-sharr-award/
URL:https://aliawest.alia.org.au/event/bunnings-cannington-engagement-evening-4th-december-2026/
LOCATION:Leige Street\, Cannington
ATTACH;FMTTYPE=image/jpeg:https://aliawest.alia.org.au/wp-content/uploads/2025/11/Screenshot-2025-11-06-171554.jpg
END:VEVENT
BEGIN:VEVENT
DTSTART;TZID=Australia/Perth:20251203T174500
DTEND;TZID=Australia/Perth:20251203T190000
DTSTAMP:20260423T064211
CREATED:20251203T121319Z
LAST-MODIFIED:20251203T121319Z
UID:1424-1764783900-1764788400@aliawest.alia.org.au
SUMMARY:Committee Meeting
DESCRIPTION:Committee meetings are held monthly on the first Wednesday of each month; February to November. \nJoin online on Zoom or in person usually at the State Library of Western Australia.
URL:https://aliawest.alia.org.au/event/committee-meeting-4/
LOCATION:Online Only
ATTACH;FMTTYPE=image/jpeg:https://aliawest.alia.org.au/wp-content/uploads/2025/12/Committee-Meetings-2026-1.jpg
END:VEVENT
BEGIN:VEVENT
DTSTART;TZID=Australia/Perth:20251113T180000
DTEND;TZID=Australia/Perth:20251113T213000
DTSTAMP:20260423T064211
CREATED:20250828T070424Z
LAST-MODIFIED:20250828T070424Z
UID:1187-1763056800-1763069400@aliawest.alia.org.au
SUMMARY:Quiz Night
DESCRIPTION:Save the date\nOur annual ALIAWest Quiz night has a date. Get your teams ready for an amazing night out with friends\, lots of laughs and amazing prizes. Save the 13th of November to your calendar and come back soon for more details.
URL:https://aliawest.alia.org.au/event/quiz-night/
LOCATION:State Library of Western Australia\, 25 Francis Street\, Perth\, Western Australia\, 6000\, Australia
ATTACH;FMTTYPE=image/jpeg:https://aliawest.alia.org.au/wp-content/uploads/2025/08/Quiz-Night-2025.jpg
ORGANIZER;CN="ALIAWest":MAILTO:aliawest@alia.org.au
END:VEVENT
BEGIN:VEVENT
DTSTART;TZID=Australia/Perth:20250919T090000
DTEND;TZID=Australia/Perth:20250919T160000
DTSTAMP:20260423T064211
CREATED:20250828T065105Z
LAST-MODIFIED:20250828T065226Z
UID:1181-1758272400-1758297600@aliawest.alia.org.au
SUMMARY:Connect\, Create & Collaborate
DESCRIPTION:Event Description\nA day celebrating lifelong partnerships and innovations across cultural institutions. Our theme highlights the transformative power of working together across disciplines using new or existing relationships and technologies\, to shape the future of West Australian knowledge and heritage. \nCLICK HERE TO REGISTER\nCLICK HERE FOR PROGRAM \nWhen\nFriday\, 19 September 2025\n9:00 am – 4:30pm  AWST \nWhere\nGreat Southern Room\nState Library of Western Australia\n45 Francis Street\nNORTHBRIDGE   WA   6003 \nThis event will be recorded. \nCost\nALIA Member – $77\nALIA Student Member – $20\nALIA Retiree Member – $21\nNon-Member – $110 \nBy registering for this event\, you are granting the Australian Library and Information Association (ALIA) and its representatives the right to use\, reproduce\, and publish photos or recordings of your participation in the event. By registering you are indicating that you understand and agree that these photos or recordings may be used for promotional\, educational\, and informational purposes\, including but not limited to\, marketing materials\, online platforms\, social media\, and any other medium deemed appropriate by ALIA.
URL:https://aliawest.alia.org.au/event/connect-create-collaborate/
LOCATION:State Library of Western Australia\, 25 Francis Street\, Perth\, Western Australia\, 6000\, Australia
ATTACH;FMTTYPE=image/png:https://aliawest.alia.org.au/wp-content/uploads/2025/08/Copy-of-GLAMR-Flyer-2.png
ORGANIZER;CN="ALIAWest":MAILTO:aliawest@alia.org.au
END:VEVENT
BEGIN:VEVENT
DTSTART;TZID=Australia/Perth:20250428T080000
DTEND;TZID=Australia/Perth:20250620T170000
DTSTAMP:20260423T064211
CREATED:20250403T085611Z
LAST-MODIFIED:20250424T063941Z
UID:1009-1745827200-1750438800@aliawest.alia.org.au
SUMMARY:2024 F A Sharr Award - Nominations opening 28 April
DESCRIPTION:Nominations for the 2024 F A Sharr open on 28 April 2025.  The Award is designed to spotlight the contributions\, achievements\, or innovative ideas of a West Australian Library Technician\, Librarian or Teacher Librarian who graduated after January 2021. \nOpen to all graduates (from January 2021) in the world of Library Technicians\, Librarians and Teacher Librarians! \nNow is the perfect time to spotlight your contributions\, achievements\, or your innovative idea. The F.A. Sharr Award is a unique opportunity to highlight the exceptional work and inspiration within our community.\nAnd don’t forget\, you can nominate someone else that you know fits that fabulous bill! \nTimeline of Events\nDate                   Detail\n28 April 2025    Colleague and self nominations open\n12 May 2025     Colleague nominations close\n20 June 2025    Self-nominations close\n25 June 2025    Review of nominations\n09 July 2025      Interviews of selected nominees\n31 July 2025      Library and Information Week Award Night – SLWA
URL:https://aliawest.alia.org.au/event/2024-f-a-sharr-award-nominations-opening-28-april/
ATTACH;FMTTYPE=image/jpeg:https://aliawest.alia.org.au/wp-content/uploads/2025/04/2024-F-A-Sharr-Award-365x220-2.jpg
END:VEVENT
BEGIN:VEVENT
DTSTART;TZID=Australia/Perth:20250409T160000
DTEND;TZID=Australia/Perth:20250423T190000
DTSTAMP:20260423T064211
CREATED:20250403T084457Z
LAST-MODIFIED:20250403T084721Z
UID:1000-1744214400-1745434800@aliawest.alia.org.au
SUMMARY:ALIAQLD Library Carpentry Sessions
DESCRIPTION:In response to the Library Carpentry Taster that ALIAWest held in 2024\, ALIAQLD has developed 3×3 hour online sessions covering:  \n\n\nSession 1: Intro to Tidy Data – 9 April\nSession 2: OpenRefine – 16 April\nSession 3: Introduction to Git  – 23 April\n\n \n \n\n\nThey start at 4pm Perth time and all are welcome to register via the link: https://www.alia.org.au/EventDetail?EventKey=QLD0425A \n\n\nYou can choose which sessions to register for and don’t forget that each session is 3 CPD Hours!\n \nThis is a great way to enter the Library Carpentry World\, and will feed into the ALIAWest full day session being planned for later in the year.
URL:https://aliawest.alia.org.au/event/aliaqld-library-carpentry-sessions/
ATTACH;FMTTYPE=image/png:https://aliawest.alia.org.au/wp-content/uploads/2025/04/ALIAQLD.png
END:VEVENT
BEGIN:VEVENT
DTSTART;TZID=Australia/Perth:20250328T170000
DTEND;TZID=Australia/Perth:20250328T203000
DTSTAMP:20260423T064211
CREATED:20250306T061258Z
LAST-MODIFIED:20250306T061912Z
UID:952-1743181200-1743193800@aliawest.alia.org.au
SUMMARY:Cocktails and Cuisine
DESCRIPTION:Event Description\nCome relax at the end of the week and get to know your ALIAWest committee members. Everyone is welcome anytime from 5.00pm onwards at the Royal on the Waterfront in East Perth. \nCost\nALIA Members/Non-Members – FREE \nRegister Now\nRegistrations are essential\, please follow the link above. \nBy registering for this event\, you are granting the Australian Library and Information Association (ALIA) and its representatives the right to use\, reproduce\, and publish photos or recordings of your participation in the event. By registering you are indicating that you understand and agree that these photos or recordings may be used for promotional\, educational\, and informational purposes\, including but not limited to\, marketing materials\, online platforms\, social media\, and any other medium deemed appropriate by ALIA.
URL:https://aliawest.alia.org.au/event/cocktails-and-cuisine/
LOCATION:60 Royal Street\, East Perth WA 6004\, 60 Royal Street\, East Perth\, WA\, 6004\, Australia
ATTACH;FMTTYPE=image/png:https://aliawest.alia.org.au/wp-content/uploads/2025/03/Facebook-banner-Icebreaker-2025-.png
ORGANIZER;CN="ALIAWest":MAILTO:aliawest@alia.org.au
END:VEVENT
BEGIN:VEVENT
DTSTART;TZID=Australia/Perth:20241113T174500
DTEND;TZID=Australia/Perth:20241113T190000
DTSTAMP:20260423T064211
CREATED:20240314T095816Z
LAST-MODIFIED:20240820T080000Z
UID:711-1731519900-1731524400@aliawest.alia.org.au
SUMMARY:Committee Meeting
DESCRIPTION:Committee meetings are held monthly on the first Wednesday of each month; February to November. \nJoin online on Zoom or in person usually at the State Library of Western Australia.
URL:https://aliawest.alia.org.au/event/683-2-2-2-2-2-2-2/
LOCATION:Online Only
ATTACH;FMTTYPE=image/jpeg:https://aliawest.alia.org.au/wp-content/uploads/2024/03/chris-montgomery-smgTvepind4-unsplash-scaled.jpg
END:VEVENT
BEGIN:VEVENT
DTSTART;TZID=Australia/Perth:20241107T180000
DTEND;TZID=Australia/Perth:20241107T214500
DTSTAMP:20260423T064211
CREATED:20240314T093927Z
LAST-MODIFIED:20240821T083946Z
UID:653-1731002400-1731015900@aliawest.alia.org.au
SUMMARY:Quiz Night
DESCRIPTION:Save the date\nOur annual ALIAWest Quiz night has a date. Get your teams ready for an amazing night out with friends\, lots of laughs and amazing prizes too. \nSave to your calendar and come back soon for more details.
URL:https://aliawest.alia.org.au/event/quiznight2024/
LOCATION:State Library of Western Australia\, 25 Francis Street\, Perth\, Western Australia\, 6000\, Australia
ATTACH;FMTTYPE=image/jpeg:https://aliawest.alia.org.au/wp-content/uploads/2024/08/Copy-of-Facts-Fiction-Quiz-Night-2024.jpg
ORGANIZER;CN="ALIAWest":MAILTO:aliawest@alia.org.au
END:VEVENT
BEGIN:VEVENT
DTSTART;TZID=Australia/Perth:20241002T174500
DTEND;TZID=Australia/Perth:20241002T190000
DTSTAMP:20260423T064211
CREATED:20240314T095754Z
LAST-MODIFIED:20240314T095754Z
UID:709-1727891100-1727895600@aliawest.alia.org.au
SUMMARY:Committee Meeting
DESCRIPTION:Committee meetings are held monthly on the first Wednesday of each month; February to November. \nJoin online on Zoom or in person usually at the State Library of Western Australia.
URL:https://aliawest.alia.org.au/event/683-2-2-2-2-2-2/
LOCATION:State Library of Western Australia\, 25 Francis Street\, Perth\, Western Australia\, 6000\, Australia
ATTACH;FMTTYPE=image/jpeg:https://aliawest.alia.org.au/wp-content/uploads/2024/03/chris-montgomery-smgTvepind4-unsplash-scaled.jpg
END:VEVENT
BEGIN:VEVENT
DTSTART;TZID=Australia/Perth:20240919T053000
DTEND;TZID=Australia/Perth:20240919T200000
DTSTAMP:20260423T064211
CREATED:20240820T081004Z
LAST-MODIFIED:20240821T083429Z
UID:845-1726723800-1726776000@aliawest.alia.org.au
SUMMARY:WA GLAMR Get Together
DESCRIPTION:Join us for an evening of presentations from our local GLAMR representatives\, followed by a roundtable discussion on current issues. \nLight refreshments will be provided \n  \n$15 ALIA Members \n$22 Non-Members
URL:https://aliawest.alia.org.au/event/wa-glamr-get-together/
LOCATION:State Library of Western Australia\, 25 Francis Street\, Perth\, Western Australia\, 6000\, Australia
ATTACH;FMTTYPE=image/jpeg:https://aliawest.alia.org.au/wp-content/uploads/2024/08/GLAMR-Flyer.jpg
ORGANIZER;CN="ALIAWest":MAILTO:aliawest@alia.org.au
END:VEVENT
BEGIN:VEVENT
DTSTART;TZID=Australia/Perth:20240904T174500
DTEND;TZID=Australia/Perth:20240904T190000
DTSTAMP:20260423T064211
CREATED:20240314T095728Z
LAST-MODIFIED:20240314T095728Z
UID:707-1725471900-1725476400@aliawest.alia.org.au
SUMMARY:Committee Meeting
DESCRIPTION:Committee meetings are held monthly on the first Wednesday of each month; February to November. \nJoin online on Zoom or in person usually at the State Library of Western Australia.
URL:https://aliawest.alia.org.au/event/683-2-2-2-2-2/
LOCATION:State Library of Western Australia\, 25 Francis Street\, Perth\, Western Australia\, 6000\, Australia
ATTACH;FMTTYPE=image/jpeg:https://aliawest.alia.org.au/wp-content/uploads/2024/03/chris-montgomery-smgTvepind4-unsplash-scaled.jpg
END:VEVENT
BEGIN:VEVENT
DTSTART;TZID=Australia/Perth:20240807T174500
DTEND;TZID=Australia/Perth:20240807T190000
DTSTAMP:20260423T064211
CREATED:20240314T095616Z
LAST-MODIFIED:20240314T095616Z
UID:705-1723052700-1723057200@aliawest.alia.org.au
SUMMARY:Committee Meeting
DESCRIPTION:Committee meetings are held monthly on the first Wednesday of each month; February to November. \nJoin online on Zoom or in person usually at the State Library of Western Australia.
URL:https://aliawest.alia.org.au/event/683-2-2-2-2/
LOCATION:State Library of Western Australia\, 25 Francis Street\, Perth\, Western Australia\, 6000\, Australia
ATTACH;FMTTYPE=image/jpeg:https://aliawest.alia.org.au/wp-content/uploads/2024/03/chris-montgomery-smgTvepind4-unsplash-scaled.jpg
END:VEVENT
BEGIN:VEVENT
DTSTART;TZID=Australia/Perth:20240703T174500
DTEND;TZID=Australia/Perth:20240703T190000
DTSTAMP:20260423T064211
CREATED:20240314T095454Z
LAST-MODIFIED:20240625T032350Z
UID:703-1720028700-1720033200@aliawest.alia.org.au
SUMMARY:Committee Meeting
DESCRIPTION:Committee meetings are held monthly on the first Wednesday of each month; February to November. \nJoin online on Zoom or in person usually at the State Library of Western Australia.
URL:https://aliawest.alia.org.au/event/683-2-2-2/
LOCATION:Online Only
ATTACH;FMTTYPE=image/jpeg:https://aliawest.alia.org.au/wp-content/uploads/2024/03/chris-montgomery-smgTvepind4-unsplash-scaled.jpg
END:VEVENT
BEGIN:VEVENT
DTSTART;TZID=Australia/Perth:20240605T174500
DTEND;TZID=Australia/Perth:20240605T190000
DTSTAMP:20260423T064211
CREATED:20240314T095431Z
LAST-MODIFIED:20240314T095431Z
UID:701-1717609500-1717614000@aliawest.alia.org.au
SUMMARY:Committee Meeting
DESCRIPTION:Committee meetings are held monthly on the first Wednesday of each month; February to November. \nJoin online on Zoom or in person usually at the State Library of Western Australia.
URL:https://aliawest.alia.org.au/event/683-2-2/
LOCATION:State Library of Western Australia\, 25 Francis Street\, Perth\, Western Australia\, 6000\, Australia
ATTACH;FMTTYPE=image/jpeg:https://aliawest.alia.org.au/wp-content/uploads/2024/03/chris-montgomery-smgTvepind4-unsplash-scaled.jpg
END:VEVENT
BEGIN:VEVENT
DTSTART;TZID=Australia/Perth:20240522T180000
DTEND;TZID=Australia/Perth:20240522T210000
DTSTAMP:20260423T064211
CREATED:20240314T095233Z
LAST-MODIFIED:20240314T100702Z
UID:619-1716400800-1716411600@aliawest.alia.org.au
SUMMARY:ALIA Event
DESCRIPTION:ALIA Event Curtin University.  \nWatch this space for more details soon. 
URL:https://aliawest.alia.org.au/event/aliaevent2024/
LOCATION:TL Robertson Library\, Curtin University\, Kent Street\, Bentley\, Western Australia\, 6102\, Australia
ATTACH;FMTTYPE=image/jpeg:https://aliawest.alia.org.au/wp-content/uploads/2024/03/05fb9b3037fa2606106b1c06fa22c7f3.jpg
ORGANIZER;CN="ALIAWest":MAILTO:aliawest@alia.org.au
END:VEVENT
BEGIN:VEVENT
DTSTART;VALUE=DATE:20240506
DTEND;VALUE=DATE:20240510
DTSTAMP:20260423T064211
CREATED:20240314T100555Z
LAST-MODIFIED:20240314T100556Z
UID:713-1714953600-1715299199@aliawest.alia.org.au
SUMMARY:ALIA National 2024 Conference
DESCRIPTION:ALIA provides the platform as a meeting point for all Library and Information professionals\, from all sectors and all areas of Australia and the international community. The National Conference provides unparalleled opportunities to become stronger as professionals and as an industry with engaging programs and a forum to collaborate\, network and build partnerships amongst our colleagues\, peers\, industry leaders and corporate partners.
URL:https://aliawest.alia.org.au/event/alia-national-2024-conference/
LOCATION:Adelaide Convention Centre\, North Terrace\, Adelaide\, South Australia\, 5000\, Australia
ATTACH;FMTTYPE=image/jpeg:https://aliawest.alia.org.au/wp-content/uploads/2024/03/AdelaideSA-1.jpg
ORGANIZER;CN="ALIA National 2024 Conference":MAILTO:events@alia.org.au
END:VEVENT
BEGIN:VEVENT
DTSTART;TZID=Australia/Perth:20240501T174500
DTEND;TZID=Australia/Perth:20240501T190000
DTSTAMP:20260423T064211
CREATED:20240314T095358Z
LAST-MODIFIED:20240314T095358Z
UID:699-1714585500-1714590000@aliawest.alia.org.au
SUMMARY:Committee Meeting
DESCRIPTION:Committee meetings are held monthly on the first Wednesday of each month; February to November. \nJoin online on Zoom or in person usually at the State Library of Western Australia.
URL:https://aliawest.alia.org.au/event/683-2/
LOCATION:State Library of Western Australia\, 25 Francis Street\, Perth\, Western Australia\, 6000\, Australia
ATTACH;FMTTYPE=image/jpeg:https://aliawest.alia.org.au/wp-content/uploads/2024/03/chris-montgomery-smgTvepind4-unsplash-scaled.jpg
END:VEVENT
BEGIN:VEVENT
DTSTART;TZID=Australia/Perth:20240403T174500
DTEND;TZID=Australia/Perth:20240403T190000
DTSTAMP:20260423T064211
CREATED:20240314T091736Z
LAST-MODIFIED:20240314T092015Z
UID:683-1712166300-1712170800@aliawest.alia.org.au
SUMMARY:Committee Meeting
DESCRIPTION:Committee meetings are held monthly on the first Wednesday of each month; February to November. \nJoin online on Zoom or in person usually at the State Library of Western Australia.
URL:https://aliawest.alia.org.au/event/683/
LOCATION:State Library of Western Australia\, 25 Francis Street\, Perth\, Western Australia\, 6000\, Australia
ATTACH;FMTTYPE=image/jpeg:https://aliawest.alia.org.au/wp-content/uploads/2024/03/chris-montgomery-smgTvepind4-unsplash-scaled.jpg
END:VEVENT
BEGIN:VEVENT
DTSTART;TZID=Australia/Perth:20240314T180000
DTEND;TZID=Australia/Perth:20240314T194500
DTSTAMP:20260423T064211
CREATED:20240314T081551Z
LAST-MODIFIED:20240314T091121Z
UID:657-1710439200-1710445500@aliawest.alia.org.au
SUMMARY:Ice Breaker
DESCRIPTION:Introducing our new Website & Social Networking.
URL:https://aliawest.alia.org.au/event/ice-breaker/
LOCATION:State Library of Western Australia\, 25 Francis Street\, Perth\, Western Australia\, 6000\, Australia
ATTACH;FMTTYPE=image/jpeg:https://aliawest.alia.org.au/wp-content/uploads/2024/03/mimi-thian-vdXMSiX-n6M-unsplash-scaled.jpg
ORGANIZER;CN="ALIAWest":MAILTO:aliawest@alia.org.au
END:VEVENT
BEGIN:VEVENT
DTSTART;TZID=Australia/Perth:20231111T080000
DTEND;TZID=Australia/Perth:20231111T100000
DTSTAMP:20260423T064211
CREATED:20231012T034932Z
LAST-MODIFIED:20240306T103834Z
UID:545-1699689600-1699696800@aliawest.alia.org.au
SUMMARY:Sample event
DESCRIPTION:This is a featured event sample. A description of the event would normally go in here.
URL:https://aliawest.alia.org.au/event/sample-event/
LOCATION:ALIA House\, 9-11 Napier Close\, Deakin\, ACT\, 2600\, Australia
ATTACH;FMTTYPE=image/png:https://aliawest.alia.org.au/wp-content/uploads/2021/08/image-2.png
ORGANIZER;CN="Brock Johnston":MAILTO:brock.johnston@alia.org.au
END:VEVENT
END:VCALENDAR