BEGIN:VCALENDAR
VERSION:2.0
PRODID:-//ALIA West - ECPv6.15.20//NONSGML v1.0//EN
CALSCALE:GREGORIAN
METHOD:PUBLISH
X-ORIGINAL-URL:https://aliawest.alia.org.au
X-WR-CALDESC:Events for ALIA West
REFRESH-INTERVAL;VALUE=DURATION:PT1H
X-Robots-Tag:noindex
X-PUBLISHED-TTL:PT1H
BEGIN:VTIMEZONE
TZID:Australia/Perth
BEGIN:STANDARD
TZOFFSETFROM:+0800
TZOFFSETTO:+0800
TZNAME:AWST
DTSTART:20250101T000000
END:STANDARD
END:VTIMEZONE
BEGIN:VEVENT
DTSTART;TZID=Australia/Perth:20261007T174500
DTEND;TZID=Australia/Perth:20261007T190000
DTSTAMP:20260423T102351
CREATED:20251203T121848Z
LAST-MODIFIED:20251203T121848Z
UID:1432-1791395100-1791399600@aliawest.alia.org.au
SUMMARY:Committee Meeting
DESCRIPTION:Committee meetings are held monthly on the first Wednesday of each month; February to November. \nJoin online on Zoom or in person usually at the State Library of Western Australia.
URL:https://aliawest.alia.org.au/event/committee-meeting-8/
LOCATION:Online Only
ATTACH;FMTTYPE=image/jpeg:https://aliawest.alia.org.au/wp-content/uploads/2025/12/Committee-Meetings-2026-1.jpg
END:VEVENT
END:VCALENDAR