BEGIN:VCALENDAR
VERSION:2.0
PRODID:-//ALIA West - ECPv6.15.20//NONSGML v1.0//EN
CALSCALE:GREGORIAN
METHOD:PUBLISH
X-WR-CALNAME:ALIA West
X-ORIGINAL-URL:https://aliawest.alia.org.au
X-WR-CALDESC:Events for ALIA West
REFRESH-INTERVAL;VALUE=DURATION:PT1H
X-Robots-Tag:noindex
X-PUBLISHED-TTL:PT1H
BEGIN:VTIMEZONE
TZID:Australia/Perth
BEGIN:STANDARD
TZOFFSETFROM:+0800
TZOFFSETTO:+0800
TZNAME:AWST
DTSTART:20250101T000000
END:STANDARD
END:VTIMEZONE
BEGIN:VEVENT
DTSTART;TZID=Australia/Perth:20260805T174500
DTEND;TZID=Australia/Perth:20260805T190000
DTSTAMP:20260423T065914
CREATED:20251203T121619Z
LAST-MODIFIED:20251203T121619Z
UID:1428-1785951900-1785956400@aliawest.alia.org.au
SUMMARY:Committee Meeting
DESCRIPTION:Committee meetings are held monthly on the first Wednesday of each month; February to November. \nJoin online on Zoom or in person usually at the State Library of Western Australia.
URL:https://aliawest.alia.org.au/event/committee-meeting-6/
LOCATION:State Library of Western Australia\, 25 Francis Street\, Perth\, Western Australia\, 6000\, Australia
ATTACH;FMTTYPE=image/jpeg:https://aliawest.alia.org.au/wp-content/uploads/2025/12/Committee-Meetings-2026-1.jpg
END:VEVENT
END:VCALENDAR