BEGIN:VCALENDAR
VERSION:2.0
PRODID:-//ALIA West - ECPv6.15.20//NONSGML v1.0//EN
CALSCALE:GREGORIAN
METHOD:PUBLISH
X-WR-CALNAME:ALIA West
X-ORIGINAL-URL:https://aliawest.alia.org.au
X-WR-CALDESC:Events for ALIA West
REFRESH-INTERVAL;VALUE=DURATION:PT1H
X-Robots-Tag:noindex
X-PUBLISHED-TTL:PT1H
BEGIN:VTIMEZONE
TZID:Australia/Perth
BEGIN:STANDARD
TZOFFSETFROM:+0800
TZOFFSETTO:+0800
TZNAME:AWST
DTSTART:20250101T000000
END:STANDARD
END:VTIMEZONE
BEGIN:VEVENT
DTSTART;VALUE=DATE:20260301
DTEND;VALUE=DATE:20260501
DTSTAMP:20260422T234636
CREATED:20251203T125916Z
LAST-MODIFIED:20260302T075518Z
UID:1436-1772323200-1777593599@aliawest.alia.org.au
SUMMARY:F A Sharr Award 2025
DESCRIPTION:The F A Sharr Award is named after Francis Aubie (Ali) Sharr\, State Librarian in Western Australia from 1953 to 1976\, in recognition of his contribution to libraries and librarianship in Western Australia and to the profession more broadly. \nPresented annually\, the Award recognises a Western Australian librarian\, teacher librarian or library technician within their first four years following graduation\, who exhibits exceptional potential to contribute to the library profession in WA. \nThe F A Sharr Award is maintained by the ALIAWest Group\, with the generous support of the ALIA WALT Group and the State Library of Western Australia. \nNominations for the 2025 Award will open in 13th April 2026.   \nPeer nominations will be open for the first 2 weeks only\, to allow the nominated colleague time to prepare their submission before the end date. \nHead to the F A Sharr Award webpage for all the information: https://alia.org.au/Web/Web/Our-Members/Award-pages/F_A_Sharr_Award.aspx \nAward will be presented at the State Library of Western Australia Library Board Award Night on the 2nd July 2026. \nRole of the Recipient \nThe Award recipient becomes the ambassador for the award and is expected to be actively involved in ALIA by joining the ALIAWest Committee and by promoting the award to encourage applications for the following year. The recipient will also be required to provide a short presentation on how the bursary was spent to the ALIAWest Committee and/or at an ALIAWest event\, as appropriate.
URL:https://aliawest.alia.org.au/event/f-a-sharr-award-2025/
ATTACH;FMTTYPE=image/jpeg:https://aliawest.alia.org.au/wp-content/uploads/2025/12/ALIAWest.jpg
END:VEVENT
END:VCALENDAR